Workbook

Sheet BC_Sáng
A1: TRƯỜNG CAO ĐẲNG LÝ TỰ TRỌNG | E1: CỘNG HÒA XÃ HỘI CHỦ NGHĨA VIỆT NAM
A2: THÀNH PHỐ HỒ CHÍ MINH | E2: Độc lập - Tự do - Hạnh phúc
A3: PHÒNG THANH TRA GIÁO DỤC
A4: - CÔNG TÁC SINH VIÊN
A6: BÁO CÁO NHANH
A7: Tình hình học sinh, sinh viên đi học
A8: (Sáng 12/5/2020)
A10: S TT | B10: LỚP | C10: Tổng số | D10: Hiện diện | E10: Tỷ lệ HSSV% có mặt | F10: Họ và tên GV | G10: Tiết | H10: Ghi chú
A11: Điện, Điện tử
A12: 1 | B12: 17T4-ĐCN1 | C12: 43 | D12: 33 | E12: =D12*100/C12 -> 76.744186 | F12: Nguyễn Tiến Dương (TG) | G12: 1 - 3
F13: Phạm Thị Thu Nga | G13: 4 - 4
F14: Trần Nam Anh | G14: 5 - 5
A15: 2 | B15: 18C1-CĐT1 | C15: 33 | D15: 26 | E15: =D15*100/C15 -> 78.787879 | F15: Huỳnh Ngọc Mai | G15: 1 - 6
A16: 3 | B16: 18C1-ĐCN1 | C16: 42 | D16: 35 | E16: =D16*100/C16 -> 83.333333 | F16: Quách Minh Thử | G16: 1 - 2
F17: Nguyễn Minh Đức Cường | G17: 3 - 4
F18: Cao Văn Tuấn | G18: 5 - 5
F19: Cao Văn Tuấn | G19: 6 - 6
A20: 4 | B20: 18C1-ĐCN2 | C20: 23 | D20: 18 | E20: =D20*100/C20 -> 78.26087 | F20: Tăng Cẩm Huê | G20: 1 - 6
A21: 5 | B21: 18C1-ĐCN3 | C21: 36 | D21: 29 | E21: =D21*100/C21 -> 80.555556 | F21: Nguyễn Thùy Linh | G21: 1 - 6
A22: 6 | B22: 18C1-ĐCN4 | C22: 47 | D22: 32 | E22: =D22*100/C22 -> 68.085106 | F22: Nguyễn Minh Đức Cường | G22: 1 - 2
F23: Quách Minh Thử | G23: 3 - 4
F24: Trần Trung Hiếu | G24: 5 - 5
F25: Trần Trung Hiếu | G25: 6 - 6
A26: 7 | B26: 18C1-ĐĐT1 | C26: 38 | D26: 35 | E26: =D26*100/C26 -> 92.105263 | F26: Ngô Phong Cường | G26: 1 - 6
A27: 8 | B27: 18C1-ĐĐT3 | C27: 24 | D27: 20 | E27: =D27*100/C27 -> 83.333333 | F27: Trần Giang Nam | G27: 1 - 6
A28: 9 | B28: 18C1-TĐH1 | C28: 64 | D28: 57 | E28: =D28*100/C28 -> 89.0625 | F28: Trần Nguyên Bảo Trân | G28: 1 - 2
F29: Nguyễn Thị Tố Nga | G29: 3 - 5
F30: Nguyễn Thị Tố Nga | G30: 6 - 6
A31: 10 | B31: 19C1-CĐT1 | C31: 53 | D31: 34 | E31: =D31*100/C31 -> 64.150943 | F31: Giang Phi Hùng | G31: 1 - 5
A32: 11 | B32: 19C1-ĐCN2 | C32: 59 | D32: 34 | E32: =D32*100/C32 -> 57.627119 | F32: Hoàng Thị Trang | G32: 1 - 3
A33: 12 | B33: 19C1-ĐCN3 | C33: 36 | D33: 16 | E33: =D33*100/C33 -> 44.444444 | F33: Hoàng Thị Trang | G33: 4 - 6
A34: 13 | B34: 19C1-ĐĐT1 | C34: 58 | D34: 45 | E34: =D34*100/C34 -> 77.586207 | F34: Nguyễn Hồng Đức | G34: 1 - 5
F35: Nguyễn Hồng Đức | G35: 6 - 6
A36: 14 | B36: 19C1-ĐĐT2 | C36: 57 | D36: 40 | E36: =D36*100/C36 -> 70.175439 | F36: Nguyễn Mạnh Phương | G36: 1 - 2
F37: Nguyễn Thị Dinh | G37: 3 - 5
A38: 15 | B38: 19C1-TĐH1 | C38: 65 | D38: 34 | E38: =D38*100/C38 -> 52.307692 | F38: Đỗ Thị Ngát | G38: 4 - 6
A39: 16 | B39: 19C2_BS_DDT1 | C39: 35 | D39: 29 | E39: =D39*100/C39 -> 82.857143 | F39: Trần Nam Anh | G39: 1 - 3
A40: =A39 -> 16 | B40: Tổng cộng = | C40: =SUM(C12:C39) -> 713 | D40: =SUM(D12:D39) -> 517 | E40: =D40*100/C40 -> 72.510519
A41: Cơ khí
A42: 1 | B42: 18T4-CCK1 | C42: 60 | D42: 51 | E42: =D42*100/C42 -> 85 | F42: Nguyễn Văn Bộ (TG) | G42: 3 - 5
F43: Vũ Quang Khải | G43: 6 - 6
A44: 2 | B44: 19T4-CCK1 | C44: 67 | D44: 59 | E44: =D44*100/C44 -> 88.059701 | F44: Trần Thị Hoàng Quyên (TG) | G44: 1 - 2
F45: Nguyễn Thị Bích Hồng (TG) | G45: 3 - 4
A46: 3 | B46: 19T4-CKC2 | C46: 33 | D46: 16 | E46: =D46*100/C46 -> 48.484848 | F46: Nguyễn Thị Cẩm Loan (TG) | G46: 3 - 4
F47: Trần Thị Hoàng Quyên (TG) | G47: 5 - 6
A48: 4 | B48: 18C1-CCK6 | C48: 54 | D48: 45 | E48: =D48*100/C48 -> 83.333333 | F48: Bùi Thành Dũng | G48: 1 - 2
F49: Dương Thị Hồng | G49: 3 - 3
F50: Nguyễn Khắc Huy | G50: 4 - 6
A51: 5 | B51: 18C1-CCK7 | C51: 28 | D51: 19 | E51: =D51*100/C51 -> 67.857143 | F51: Trần Minh Thông | G51: 1 - 6
A52: 6 | B52: 18C1-CKL1 | C52: 23 | D52: 17 | E52: =D52*100/C52 -> 73.913043 | F52: Nguyễn Tiến Dũng | G52: 1 - 6
A53: 7 | B53: 18C1-CTM1 | C53: 29 | D53: 24 | E53: =D53*100/C53 -> 82.758621 | F53: Trương Thị Phương Hồng | G53: 1 - 6
A54: 8 | B54: 19C1-CCK2 | C54: 55 | D54: 37 | E54: =D54*100/C54 -> 67.272727 | F54: Võ Minh Quang | G54: 1 - 6
A55: 9 | B55: 19C1-CCK3 | C55: 50 | D55: 35 | E55: =D55*100/C55 -> 70 | F55: Võ Ngọc Lân (TG) | G55: 1 - 5
A56: 10 | B56: 19C1-CCK5 | C56: 63 | D56: 54 | E56: =D56*100/C56 -> 85.714286 | F56: Nguyễn Văn Úy (TG) | G56: 1 - 3
A57: 11 | B57: 19C1-CCK6 | C57: 52 | D57: 29 | E57: =D57*100/C57 -> 55.769231 | F57: Vũ Quang Khải | G57: 1 - 3
F58: Vũ Quang Khải | G58: 4 - 5
A59: 12 | B59: 19C3-CCK1 | C59: 33 | D59: 27 | E59: =D59*100/C59 -> 81.818182 | F59: Đỗ Thị Phương Khanh | G59: 1 - 2
F60: Nguyễn Hồng Phúc | G60: 3 - 4
F61: Chung Trần Thế Vinh | G61: 5 - 5
A62: =A59 -> 12 | B62: Tổng cộng = | C62: =SUM(C42:C61) -> 547 | D62: =SUM(D42:D61) -> 413 | E62: =D62*100/C62 -> 75.502742
A63: Động lực
A64: 1 | B64: 17T4-CNÔ1 | C64: 53 | D64: 37 | E64: =D64*100/C64 -> 69.811321 | F64: Dương Đức Kiên | G64: 1 - 4
A65: 2 | B65: 17T4-CNÔ2 | C65: 36 | D65: 24 | E65: =D65*100/C65 -> 66.666667 | F65: Nguyễn Văn Hậu | G65: 5 - 6
A66: 3 | B66: 17T4-CNÔ3 | C66: 37 | D66: 35 | E66: =D66*100/C66 -> 94.594595 | F66: Nguyễn Văn Hậu | G66: 1 - 3
A67: 4 | B67: 19T4-CNÔ1 | C67: 63 | D67: 54 | E67: =D67*100/C67 -> 85.714286 | F67: Ngô Văn Quang (TG) | G67: 1 - 4
A68: 5 | B68: 19T4-CNÔ2 | C68: 62 | D68: 44 | E68: =D68*100/C68 -> 70.967742 | F68: Nguyễn Thị Bích Hồng (TG) | G68: 1 - 2
F69: Nguyễn Thái Bình | G69: 3 - 6
A70: 6 | B70: 19T4-CNÔ3 | C70: 58 | D70: 55 | E70: =D70*100/C70 -> 94.827586 | F70: Triệu Phú Nguyên | G70: 1 - 4
F71: Nguyễn Trung Dũng | G71: 5 - 5
A72: 7 | B72: 18C1-CNÔ1 | C72: 26 | D72: 24 | E72: =D72*100/C72 -> 92.307692 | F72: Hà Quốc Bảo | G72: 1 - 2
F73: Hà Quốc Bảo | G73: 3 - 6
A74: 8 | B74: 18C1-CNÔ3 | C74: 46 | D74: 37 | E74: =D74*100/C74 -> 80.434783 | F74: Kiều Trung Tín | G74: 1 - 5
F75: Kiều Trung Tín | G75: 6 - 6
A76: 9 | B76: 18C1-CNÔ4 | C76: 47 | D76: 39 | E76: =D76*100/C76 -> 82.978723 | F76: Trần Thế Sơn | G76: 1 - 5
F77: Trần Thế Sơn | G77: 6 - 6
A78: 10 | B78: 18C1-CNÔ5 | C78: 48 | D78: 45 | E78: =D78*100/C78 -> 93.75 | F78: Trần Văn Đông | G78: 1 - 5
F79: Trần Văn Đông | G79: 6 - 6
A80: 11 | B80: 18C1-CNÔ6 | C80: 22 | D80: 19 | E80: =D80*100/C80 -> 86.363636 | F80: Nguyễn Minh Thái | G80: 1 - 2 | H80: N1
C81: 22 | D81: 19 | E81: =D81*100/C81 -> 86.363636 | F81: Nguyễn Minh Thái | G81: 3 - 6 | H81: N2
B82: 18C1-CNÔ8 | C82: 289 | D82: 194 | E82: =D82*100/C82 -> 67.128028 | F82: Hoàng Phúc Bảo | G82: 1 - 2 | H82: Học online
F83: Võ Đắc Thịnh | G83: 3 - 4 | H83: Học online
A84: 12 | B84: 18C1-CNÔ13 | C84: 24 | D84: 16 | E84: =D84*100/C84 -> 66.666667 | F84: Trần Minh Tuấn | G84: 1 - 2 | H84: N1
C85: 24 | D85: 16 | E85: =D85*100/C85 -> 66.666667 | F85: Trần Minh Tuấn | G85: 3 - 6 | H85: N2
A86: 13 | B86: 18C1-CNÔ15 | C86: 22 | D86: 18 | E86: =D86*100/C86 -> 81.818182 | F86: Hoàng Phúc Bảo | G86: 3 - 6
A87: 14 | B87: 18C1-CNÔ16 | C87: 45 | D87: 30 | E87: =D87*100/C87 -> 66.666667 | F87: Trần Văn Lượng | G87: 1 - 2
F88: Phạm Huy Hoàng | G88: 3 - 3
A89: 15 | B89: 18C1-CNÔ17 | C89: 45 | D89: 26 | E89: =D89*100/C89 -> 57.777778 | F89: Nguyễn Thái Bình | G89: 2 - 2
F90: Trần Văn Lượng | G90: 3 - 4
F91: Nguyễn Thị Thu Tâm | G91: 5 - 5
A92: 16 | B92: 19C1-CNÔ6 | C92: 25 | D92: 20 | E92: =D92*100/C92 -> 80 | F92: Nguyễn Lương Tâm | G92: 1 - 6
A93: 17 | B93: 19C1-CNÔ11 | C93: 27 | D93: 14 | E93: =D93*100/C93 -> 51.851852 | F93: Đỗ Hoàng Duy (TG) | G93: 1 - 6
A94: 18 | B94: 19C1-CNÔ15 | C94: 37 | D94: 20 | E94: =D94*100/C94 -> 54.054054 | F94: Nguyễn Thành Long | G94: 1 - 6
A95: 19 | B95: 19C4-CNÔ1 | C95: 18 | D95: 14 | E95: =D95*100/C95 -> 77.777778 | F95: Nguyễn Hữu Mạnh | G95: 1 - 6
A96: =A95 -> 19 | B96: Tổng cộng = | C96: =SUM(C64:C95) -> 1076 | D96: =SUM(D64:D95) -> 800 | E96: =D96*100/C96 -> 74.349442
A97: Công nghệ thông tin
A98: 1 | B98: 17T4-LTM1 | C98: 45 | D98: 20 | E98: =D98*100/C98 -> 44.444444 | F98: Trần Văn Lượng | G98: 6 - 6
A99: 2 | B99: 17T4-THU1 | C99: 48 | D99: 36 | E99: =D99*100/C99 -> 75 | F99: Nguyễn Thị Thu Hồng | G99: 1 - 3
F100: Nguyễn Thị Thu Hồng | G100: 4 - 5
F101: Nguyễn Thị Thu Hồng | G101: 6 - 6
A102: 3 | B102: 18T4-LTM1 | C102: 36 | D102: 32 | E102: =D102*100/C102 -> 88.888889 | F102: Đỗ Thị Hải Yến | G102: 1 - 1
...

Sheet BC_Chiều
A1: TRƯỜNG CAO ĐẲNG LÝ TỰ TRỌNG | E1: CỘNG HÒA XÃ HỘI CHỦ NGHĨA VIỆT NAM
A2: THÀNH PHỐ HỒ CHÍ MINH | E2: Độc lập - Tự do - Hạnh phúc
A3: PHÒNG THANH TRA GIÁO DỤC
A4: - CÔNG TÁC SINH VIÊN
A6: BÁO CÁO NHANH
A7: Tình hình học sinh, sinh viên đi học
A8: (Chiều 12/5/2020)
A10: S TT | B10: LỚP | C10: Tổng số | D10: Hiện diện | E10: Tỷ lệ HSSV% có mặt | F10: Họ và tên GV | G10: Tiết | H10: Ghi chú
A11: Điện, Điện tử
A12: 1 | B12: 15TC_HL2_19T4-ĐĐT1 | C12: 39 | D12: 23 | E12: =D12*100/C12 -> 58.974359 | F12: Phan Thị Thùy Trang | G12: 7 - 8
A13: 2 | B13: 17T4-ĐTC1 | C13: 15 | D13: 12 | E13: =D13*100/C13 -> 80 | F13: Nguyễn Thị Tố Nga | G13: 7 - 11
A14: 3 | B14: 19T4-CĐT1 | C14: 63 | D14: 53 | E14: =D14*100/C14 -> 84.126984 | F14: Nguyễn Văn Úy (TG) | G14: 9 - 12
A15: 4 | B15: 19T4-ĐCN1 | C15: 43 | D15: 34 | E15: =D15*100/C15 -> 79.069767 | F15: Bùi Thành Dũng | G15: 7 - 8
F16: Cao Thị Hồng Thắm | G16: 9 - 10
F17: Nguyễn Đức Thắng | G17: 11 - 12
A18: 5 | B18: 19T4-ĐCN2 | C18: 41 | D18: 33 | E18: =D18*100/C18 -> 80.487805 | F18: Nguyễn Anh Kiệt | G18: 7 - 8
F19: Bùi Thành Dũng | G19: 9 - 10
A20: 6 | B20: 19T4-ĐĐT1 | C20: 39 | D20: 28 | E20: =D20*100/C20 -> 71.794872 | F20: Nguyễn Phú Tân | G20: 9 - 10
A21: 7 | B21: 19T4-ĐĐT2 | C21: 33 | D21: 25 | E21: =D21*100/C21 -> 75.757576 | F21: Trần Hiếu Trinh | G21: 7 - 10
F22: Trần Hiếu Trinh | G22: 11 - 11
A23: 8 | B23: 15CĐ_HL1_19C1-CĐT1 | C23: 65 | D23: 41 | E23: =D23*100/C23 -> 63.076923 | F23: Nguyễn Mạnh Phương | G23: 10 - 11
A24: 9 | B24: 17C1_HL1_19C1-CĐT1 | C24: 65 | D24: 36 | E24: =D24*100/C24 -> 55.384615 | F24: Phạm Thị Vinh | G24: 7 - 9
A25: 10 | B25: 18C1-CĐT1 | C25: 33 | D25: 21 | E25: =D25*100/C25 -> 63.636364 | F25: Huỳnh Ngọc Mai | G25: 7 - 12 | H25: N2
A26: 11 | B26: 18C1-ĐCN2 | C26: 24 | D26: 18 | E26: =D26*100/C26 -> 75 | F26: Tăng Cẩm Huê | G26: 7 - 12 | H26: N2
A27: 12 | B27: 18C1-ĐĐT1 | C27: 42 | D27: 37 | E27: =D27*100/C27 -> 88.095238 | F27: Võ Cường | G27: 7 - 7
A28: 13 | B28: 18C1-ĐĐT2 | C28: 38 | D28: 34 | E28: =D28*100/C28 -> 89.473684 | F28: Ngô Phong Cường | G28: 7 - 12
A29: 14 | B29: 18C1-ĐĐT3 | C29: 24 | D29: 20 | E29: =D29*100/C29 -> 83.333333 | F29: Trần Giang Nam | G29: 7 - 12 | H29: N2
A30: 15 | B30: 19C1-ĐCN1 | C30: 60 | D30: 52 | E30: =D30*100/C30 -> 86.666667 | F30: Nguyễn Trần Thanh Nhàn | G30: 7 - 8
F31: Mạnh Lê Hoàn | G31: 9 - 9
A32: 16 | B32: 19C1-ĐĐT1 | C32: 29 | D32: 18 | E32: =D32*100/C32 -> 62.068966 | F32: Nguyễn Hồng Đức | G32: 7 - 11 | H32: N2
A33: 17 | B33: 19C1-ĐĐT3 | C33: 24 | D33: 14 | E33: =D33*100/C33 -> 58.333333 | F33: Trần Nam Anh | G33: 7 - 11 | H33: N2
C34: 24 | D34: 15 | E34: =D34*100/C34 -> 62.5 | F34: Trần Công Tiến | G34: 7 - 11 | H34: N1
F35: Trần Công Tiến | G35: 12 - 12
A36: 18 | B36: 19C1-TĐH1 | C36: 65 | D36: 54 | E36: =D36*100/C36 -> 83.076923 | F36: Ngô Thanh Điền | G36: 7 - 8
A37: =A36 -> 18 | B37: Tổng cộng = | C37: =SUM(C12:C36) -> 766 | D37: =SUM(D12:D36) -> 568 | E37: =D37*100/C37 -> 74.151436
A38: Cơ khí
A39: 1 | B39: 17T4-CKL1 | C39: 14 | D39: 11 | E39: =D39*100/C39 -> 78.571429 | F39: Nguyễn Tiến Dũng | G39: 7 - 12
A40: 2 | B40: 18T4-CKC1 | C40: 26 | D40: 19 | E40: =D40*100/C40 -> 73.076923 | F40: Nguyễn Phương Hà | G40: 8 - 8
F41: Nguyễn Phương Hà | G41: 9 - 10
A42: 3 | B42: 18C1-CCK7 | C42: 28 | D42: 22 | E42: =D42*100/C42 -> 78.571429 | F42: Trần Minh Thông | G42: 7 - 12
A43: 4 | B43: 18C1-CTM1 | C43: 29 | D43: 21 | E43: =D43*100/C43 -> 72.413793 | F43: Trương Thị Phương Hồng | G43: 7 - 12 | H43: N2
A44: 5 | B44: 19C1-BCN1 | C44: 35 | D44: 24 | E44: =D44*100/C44 -> 68.571429 | F44: Vũ Quang Khải | G44: 7 - 9
F45: Vũ Quang Khải | G45: 10 - 11
A46: 6 | B46: 19C1-CCK5 | C46: 57 | D46: 34 | E46: =D46*100/C46 -> 59.649123 | F46: Võ Minh Quang | G46: 7 - 12
A47: =A46 -> 6 | B47: Tổng cộng = | C47: =SUM(C39:C46) -> 189 | D47: =SUM(D39:D46) -> 131 | E47: =D47*100/C47 -> 69.312169
A48: Động lực
A49: 1 | B49: 18T4-CNÔ1 | C49: 44 | D49: 25 | E49: =D49*100/C49 -> 56.818182 | F49: Nguyễn Ngô Anh Tuấn (TG) | G49: 7 - 8
F50: Nguyễn Văn Hậu | G50: 9 - 10
F51: Mai Võ Hoài Giang (TG) | G51: 11 - 12
A52: 2 | B52: 18T4-CNÔ2 | C52: 47 | D52: 30 | E52: =D52*100/C52 -> 63.829787 | F52: Nguyễn Văn Hậu | G52: 7 - 8
F53: Lê Thị Mùi (TG) | G53: 9 - 10
F54: Trịnh Khắc Vũ | G54: 11 - 12
A55: 3 | B55: 18T4-CNÔ5 | C55: 45 | D55: 32 | E55: =D55*100/C55 -> 71.111111 | F55: Nguyễn Văn Bộ (TG) | G55: 7 - 11
A56: 4 | B56: 18C1-CNÔ1 | C56: 25 | D56: 18 | E56: =D56*100/C56 -> 72 | F56: Hà Quốc Bảo | G56: 7 - 8 | H56: N2
C57: 25 | D57: 18 | E57: =D57*100/C57 -> 72 | F57: Hà Quốc Bảo | G57: 9 - 12 | H57: N2
A58: 5 | B58: 18C1-CNÔ3 | C58: 23 | D58: 20 | E58: =D58*100/C58 -> 86.956522 | F58: Kiều Trung Tín | G58: 7 - 11 | H58: N2
A59: 6 | B59: 18C1-CNÔ4 | C59: 23 | D59: 22 | E59: =D59*100/C59 -> 95.652174 | F59: Trần Thế Sơn | G59: 7 - 11 | H59: N2
A60: 7 | B60: 18C1-CNÔ5 | C60: 24 | D60: 19 | E60: =D60*100/C60 -> 79.166667 | F60: Nguyễn Thái Bình | G60: 7 - 11 | H60: N2
A61: 8 | B61: 18C1-CNÔ6 | C61: 21 | D61: 16 | E61: =D61*100/C61 -> 76.190476 | F61: Nguyễn Minh Thái | G61: 7 - 8 | H61: N2
C62: 21 | D62: 16 | E62: =D62*100/C62 -> 76.190476 | F62: Nguyễn Minh Thái | G62: 9 - 12 | H62: N2
A63: 9 | B63: 18C1-CNÔ11 | C63: 23 | D63: 16 | E63: =D63*100/C63 -> 69.565217 | F63: Lê Văn Hải (TG) | G63: 7 - 11 | H63: N1
A64: 10 | B64: 18C1-CNÔ13 | C64: 24 | D64: 20 | E64: =D64*100/C64 -> 83.333333 | F64: Đặng Thái Sơn | G64: 7 - 8 | H64: N2
C65: 24 | D65: 20 | E65: =D65*100/C65 -> 83.333333 | F65: Đặng Thái Sơn | G65: 9 - 12 | H65: N2
A66: 11 | B66: 18C1-CNÔ14 | C66: 45 | D66: 29 | E66: =D66*100/C66 -> 64.444444 | F66: Trần Văn Lượng | G66: 7 - 8
A67: 12 | B67: 18C1-CNÔ15 | C67: 21 | D67: 17 | E67: =D67*100/C67 -> 80.952381 | F67: Hoàng Phúc Bảo | G67: 7 - 8 | H67: N2
C68: 21 | D68: 17 | E68: =D68*100/C68 -> 80.952381 | F68: Hoàng Phúc Bảo | G68: 9 - 12 | H68: N2
A69: 13 | B69: 19C1-CNÔ1 | C69: 28 | D69: 18 | E69: =D69*100/C69 -> 64.285714 | F69: Đinh Quốc Trí (TG) | G69: 7 - 12 | H69: N2
A70: 14 | B70: 19C1-CNÔ4 | C70: 54 | D70: 32 | E70: =D70*100/C70 -> 59.259259 | F70: Nguyễn Lương Tâm | G70: 7 - 11
A71: 15 | B71: 19C1-CNÔ5 | C71: 30 | D71: 24 | E71: =D71*100/C71 -> 80 | F71: Võ Đắc Thịnh | G71: 7 - 11 | H71: N2
A72: 16 | B72: 19C1-CNÔ6 | C72: 51 | D72: 41 | E72: =D72*100/C72 -> 80.392157 | F72: Hoàng Thị Trang | G72: 9 - 9
F73: Nguyễn Thanh Vũ | G73: 10 - 12
A74: 17 | B74: 19C1-CNÔ7 | C74: 23 | D74: 13 | E74: =D74*100/C74 -> 56.521739 | F74: Nguyễn Văn Sơn | G74: 7 - 12 | H74: N2
A75: 18 | B75: 19C1-CNÔ8 | C75: 52 | D75: 38 | E75: =D75*100/C75 -> 73.076923 | F75: Nguyễn Thanh Vũ | G75: 7 - 9
F76: Trần Quốc Định | G76: 10 - 10
A77: 19 | B77: 19C1-CNÔ14 | C77: 31 | D77: 18 | E77: =D77*100/C77 -> 58.064516 | F77: Triệu Phú Nguyên | G77: 7 - 12 | H77: N1
C78: 28 | D78: 15 | E78: =D78*100/C78 -> 53.571429 | F78: Đỗ Hoàng Duy (TG) | G78: 7 - 12 | H78: N2
A79: 20 | B79: 19C3-CNÔ1 | C79: 29 | D79: 25 | E79: =D79*100/C79 -> 86.206897 | F79: Nguyễn Thanh Giang | G79: 7 - 9
F80: Nguyễn Anh Tuấn | G80: 10 - 11
A81: 21 | B81: 19C3-CNÔ2 | C81: 31 | D81: 25 | E81: =D81*100/C81 -> 80.645161 | F81: Hồ Văn Sĩ | G81: 7 - 7
F82: Nguyễn Anh Tuấn | G82: 8 - 9
F83: Nguyễn Thanh Giang | G83: 10 - 12
A84: 22 | B84: 19C4-CNÔ1 | C84: 18 | D84: 15 | E84: =D84*100/C84 -> 83.333333 | F84: Nguyễn Hữu Mạnh | G84: 7 - 10
A85: =A84 -> 22 | B85: Tổng cộng = | C85: =SUM(C49:C84) -> 831 | D85: =SUM(D49:D84) -> 599 | E85: =D85*100/C85 -> 72.081829
A86: Công nghệ thông tin
A87: 1 | B87: 17T4-CMT1 | C87: 20 | D87: 20 | E87: =D87*100/C87 -> 100 | F87: Đỗ Thị Hải Yến | G87: 7 - 8
F88: Đỗ Thị Hải Yến | G88: 9 - 10
F89: Bùi Thành Dũng | G89: 11 - 11
A90: 2 | B90: 17T4-LTM1 | C90: 31 | D90: 29 | E90: =D90*100/C90 -> 93.548387 | F90: Nguyễn Cao Phong | G90: 7 - 9
F91: Nguyễn Cao Phong | G91: 10 - 12
A92: 3 | B92: 17T4-QTM1 | C92: 43 | D92: 41 | E92: =D92*100/C92 -> 95.348837 | F92: Lê Phi Trường | G92: 7 - 8
F93: Lê Phi Trường | G93: 9 - 11
A94: 4 | B94: 17T4-TKW1 | C94: 21 | D94: 18 | E94: =D94*100/C94 -> 85.714286 | F94: Trần Vĩnh Xuyên | G94: 7 - 9
F95: Trần Vĩnh Xuyên | G95: 10 - 11
F96: Trần Vĩnh Xuyên | G96: 12 - 12
A97: 5 | B97: 18T4-ANM1 | C97: 37 | D97: 34 | E97: =D97*100/C97 -> 91.891892 | F97: Lê Minh Phong | G97: 7 - 8
F98: Bùi Đình Trường (TG) | G98: 9 - 10
F99: Nguyễn Thị Cẩm Loan (TG) | G99: 11 - 12
A100: 6 | B100: 18T4-CMT1 | C100: 52 | D100: 39 | E100: =D100*100/C100 -> 75 | F100: Bùi Đình Trường (TG) | G100: 7 - 8
F101: Nguyễn Thị Cẩm Loan (TG) | G101: 9 - 10
F102: Lê Minh Phong | G102: 11 - 12
...

Sheet BC_Tối
A1: TRƯỜNG CAO ĐẲNG LÝ TỰ TRỌNG | E1: CỘNG HÒA XÃ HỘI CHỦ NGHĨA VIỆT NAM
A2: THÀNH PHỐ HỒ CHÍ MINH | E2: Độc lập - Tự do - Hạnh phúc
A3: PHÒNG THANH TRA GIÁO DỤC
A4: - CÔNG TÁC SINH VIÊN
A6: BÁO CÁO NHANH
A7: Tình hình học sinh, sinh viên đi học
A8: (Tối 12/5/2020)
A10: S TT | B10: LỚP | C10: Tổng số | D10: Hiện diện | E10: Tỷ lệ HSSV% có mặt | F10: Họ và tên GV | G10: Tiết | H10: Ghi chú
A11: Điện, Điện tử
A12: 1 | B12: 18T7-ĐCN1 | C12: 39 | D12: 32 | E12: =D12*100/C12 -> 82.051282 | F12: Nguyễn Thị Thủy | G12: 13 - 17
A13: 2 | B13: 19C2-ĐĐT1 | C13: 38 | D13: 33 | E13: =D13*100/C13 -> 86.842105 | F13: Hoàng Thị Trang | G13: 13 - 16
A14: =A13 -> 2 | B14: Tổng cộng = | C14: =SUM(C12:C13) -> 77 | D14: =SUM(D12:D13) -> 65 | E14: =D14*100/C14 -> 84.415584
A15: Cơ khí
A16: 1 | B16: 18C1-BCN1 | C16: 20 | D16: 13 | E16: =D16*100/C16 -> 65 | F16: Trần Minh Thông | G16: 13 - 17
A17: 2 | B17: 18C1-CCK2 | C17: 30 | D17: 20 | E17: =D17*100/C17 -> 66.666667 | F17: Nguyễn Tam Cương | G17: 13 - 17
A18: 3 | B18: 18C1-CCK5 | C18: 27 | D18: 20 | E18: =D18*100/C18 -> 74.074074 | F18: Đỗ Thị Phương Khanh | G18: 13 - 17
A19: 4 | B19: 19C1-BCN1 | C19: 35 | D19: 25 | E19: =D19*100/C19 -> 71.428571 | F19: Võ Minh Quang | G19: 13 - 17
A20: 5 | B20: 19C2-CCK1 | C20: 51 | D20: 42 | E20: =D20*100/C20 -> 82.352941 | F20: Lê Thị Mai Hường | G20: 13 - 13
F21: Lê Thị Mai Hường | G21: 14 - 16
A22: =A20 -> 5 | B22: Tổng cộng = | C22: =SUM(C16:C21) -> 163 | D22: =SUM(D16:D21) -> 120 | E22: =D22*100/C22 -> 73.619632
A23: Động lực
A24: 1 | B24: 18C1-CNÔ10 | C24: 25 | D24: 16 | E24: =D24*100/C24 -> 64 | F24: Hoàng Phúc Bảo | G24: 13 - 16
A25: 2 | B25: 18C1-CNÔ11 | C25: 22 | D25: 17 | E25: =D25*100/C25 -> 77.272727 | F25: Lê Văn Hải (TG) | G25: 13 - 16
A26: 3 | B26: 18C2_HL1_19C2-CNÔ1 | C26: 49 | D26: 36 | E26: =D26*100/C26 -> 73.469388 | F26: Đinh Thị Huyên | G26: 14 - 16
A27: 4 | B27: 19C1-CNÔ3 | C27: 29 | D27: 23 | E27: =D27*100/C27 -> 79.310345 | F27: Nguyễn Thanh Vĩnh Phúc | G27: 13 - 17
A28: 5 | B28: 19C1-CNÔ4 | C28: 28 | D28: 26 | E28: =D28*100/C28 -> 92.857143 | F28: Võ Đắc Thịnh | G28: 13 - 16
A29: 6 | B29: 19C2-CNÔ1 | C29: 48 | D29: 36 | E29: =D29*100/C29 -> 75 | F29: Đinh Thị Huyên | G29: 13 - 13
A30: =A29 -> 6 | B30: Tổng cộng = | C30: =SUM(C24:C29) -> 201 | D30: =SUM(D24:D29) -> 154 | E30: =D30*100/C30 -> 76.616915
A31: Công nghệ thông tin
A32: 1 | B32: 18C1-TKĐ1 | C32: 53 | D32: 52 | E32: =D32*100/C32 -> 98.113208 | F32: Huỳnh Quốc Dũng | G32: 13 - 16
A33: 2 | B33: 18C1-LTM1 | C33: 38 | D33: 29 | E33: =D33*100/C33 -> 76.315789 | F33: Nguyễn Cao Phong | G33: 13 - 14
F34: Nguyễn Cao Phong | G34: 15 - 16
A35: 3 | B35: 19C2-QTM1 | C35: 40 | D35: 21 | E35: =D35*100/C35 -> 52.5 | F35: K' Luyện (TG) | G35: 13 - 16
A36: =A35 -> 3 | B36: Tổng cộng = | C36: =SUM(C32:C35) -> 131 | D36: =SUM(D32:D35) -> 102 | E36: =D36*100/C36 -> 77.862595
A37: Kinh tế
A38: 1 | B38: 19C2-KTD1 | C38: 18 | D38: 17 | E38: =D38*100/C38 -> 94.444444 | F38: Trần Thị Ngọc Dung | G38: 13 - 16
A39: 2 | B39: 19C2-QTD1 | C39: 15 | D39: 13 | E39: =D39*100/C39 -> 86.666667 | F39: Trịnh Hoàng Hiệp | G39: 13 - 14
F40: Trịnh Hoàng Hiệp | G40: 15 - 15
F41: Trịnh Hoàng Hiệp | G41: 16 - 16
A42: =A39 -> 2 | B42: Tổng cộng = | C42: =SUM(C38:C41) -> 33 | D42: =SUM(D38:D41) -> 30 | E42: =D42*100/C42 -> 90.909091
A43: May - Thời trang
A44: 1 | B44: 19T4-CNM1 | C44: 254 | D44: 142 | E44: =D44*100/C44 -> 55.905512 | F44: Trương Thị Hồng | G44: 14 - 15 | H44: Học online
A45: 2 | B45: 18C1-CNM1 | C45: 66 | D45: 53 | E45: =D45*100/C45 -> 80.30303 | F45: Phạm Thị Thanh Thúy | G45: 13 - 14 | H45: Học online
A46: =A45 -> 2 | B46: Tổng cộng = | C46: =SUM(C44:C45) -> 320 | D46: =SUM(D44:D45) -> 195 | E46: =D46*100/C46 -> 60.9375
A47: Khoa học cơ bản
A48: 1 | B48: 18C1-AV2-7 | C48: 57 | D48: 49 | E48: =D48*100/C48 -> 85.964912 | F48: Lê Nguyễn Mỹ Trâm | G48: 13 - 16
A49: 2 | B49: 18C1-AV2-8 | C49: 56 | D49: 46 | E49: =D49*100/C49 -> 82.142857 | F49: Nguyễn Thị Thu Hà | G49: 13 - 16
A50: 3 | B50: 18C1-AV2-9 | C50: 62 | D50: 58 | E50: =D50*100/C50 -> 93.548387 | F50: Vương Thanh Thủy | G50: 13 - 16
A51: 4 | B51: 18C1-AV2-11 | C51: 43 | D51: 43 | E51: =D51*100/C51 -> 100 | F51: Võ Thị Hồng Lan | G51: 13 - 16
A52: =A51 -> 4 | B52: Tổng cộng = | C52: =SUM(C48:C51) -> 218 | D52: =SUM(D48:D51) -> 196 | E52: =D52*100/C52 -> 89.908257
A53: =SUM(A14,A22,A30,A36,A42,A46,A52) -> 24 | B53: Toàn trường = | C53: =SUM(C22,C14,C30,C42,C46,C36,C52) -> 1143 | D53: =SUM(D22,D14,D30,D42,D46,D36,D52) -> 862 | E53: =D53*100/C53 -> 75.415573
A55: * Ghi chú:
E56: TP.Hồ Chí Minh, ngày 12 tháng 5 năm 2020
E57: PHÒNG TTGD-CTSV

Sheet TONG-HOP-NGAY-12-5
A1: TRƯỜNG CAO ĐẲNG LÝ TỰ TRỌNG | D1: CỘNG HÒA XÃ HỘI CHỦ NGHĨA VIỆT NAM
A2: THÀNH PHỐ HỒ CHÍ MINH | D2: Độc lập - Tự do - Hạnh phúc
A3: PHÒNG THANH TRA GIÁO DỤC
A4: - CÔNG TÁC SINH VIÊN
A6: BÁO CÁO NHANH
A7: Tình hình học sinh, sinh viên đi học
A8: (Cả ngày 12/5/2020)
A10: STT | B10: Các Khoa có lớp học | C10: Sáng 12/05/2020 | G10: Chiều 12/05/2020 | K10: Tối 12/05/2020 | O10: Ghi chú
C11: Lớp | D11: Tổng số | E11: Hiện diện | F11: Tỷ lệ HSSV% có mặt | G11: Lớp | H11: Tổng số | I11: Hiện diện | J11: Tỷ lệ HSSV% có mặt | K11: Lớp | L11: Tổng số | M11: Hiện diện | N11: Tỷ lệ HSSV% có mặt
A12: 1 | B12: Khoa Công nghệ Điện - Điện Tử | C12: =BC_Sáng!A40 -> 16 | D12: =BC_Sáng!C40 -> 713 | E12: =BC_Sáng!D40 -> 517 | F12: =E12*100/D12 -> 72.510519 | G12: =BC_Chiều!A37 -> 18 | H12: =BC_Chiều!C37 -> 766 | I12: =BC_Chiều!D37 -> 568 | J12: =I12*100/H12 -> 74.151436 | K12: =BC_Tối!A14 -> 2 | L12: =BC_Tối!C14 -> 77 | M12: =BC_Tối!D14 -> 65 | N12: =M12*100/L12 -> 84.415584
A13: 2 | B13: Khoa Công nghệ Cơ Khí | C13: =BC_Sáng!A62 -> 12 | D13: =BC_Sáng!C62 -> 547 | E13: =BC_Sáng!D62 -> 413 | F13: =E13*100/D13 -> 75.502742 | G13: =BC_Chiều!A47 -> 6 | H13: =BC_Chiều!C47 -> 189 | I13: =BC_Chiều!D47 -> 131 | J13: =I13*100/H13 -> 69.312169 | K13: =BC_Tối!A22 -> 5 | L13: =BC_Tối!C22 -> 163 | M13: =BC_Tối!D22 -> 120 | N13: =M13*100/L13 -> 73.619632
A14: 3 | B14: Khoa Công nghệ Động Lực | C14: =BC_Sáng!A96 -> 19 | D14: =BC_Sáng!C96 -> 1076 | E14: =BC_Sáng!D96 -> 800 | F14: =E14*100/D14 -> 74.349442 | G14: =BC_Chiều!A85 -> 22 | H14: =BC_Chiều!C85 -> 831 | I14: =BC_Chiều!D85 -> 599 | J14: =I14*100/H14 -> 72.081829 | K14: =BC_Tối!A30 -> 6 | L14: =BC_Tối!C30 -> 201 | M14: =BC_Tối!D30 -> 154 | N14: =M14*100/L14 -> 76.616915
A15: 4 | B15: Khoa Công nghệ Thông tin | C15: =BC_Sáng!A133 -> 16 | D15: =BC_Sáng!C133 -> 1025 | E15: =BC_Sáng!D133 -> 741 | F15: =E15*100/D15 -> 72.292683 | G15: =BC_Chiều!A138 -> 22 | H15: =BC_Chiều!C138 -> 985 | I15: =BC_Chiều!D138 -> 773 | J15: =I15*100/H15 -> 78.477157 | K15: =BC_Tối!A36 -> 3 | L15: =BC_Tối!C36 -> 131 | M15: =BC_Tối!D36 -> 102 | N15: =M15*100/L15 -> 77.862595
A16: 5 | B16: Khoa Kinh tế | C16: =BC_Sáng!A158 -> 10 | D16: =BC_Sáng!C158 -> 723 | E16: =BC_Sáng!D158 -> 476 | F16: =E16*100/D16 -> 65.836791 | G16: =BC_Chiều!A152 -> 7 | H16: =BC_Chiều!C152 -> 613 | I16: =BC_Chiều!D152 -> 381 | J16: =I16*100/H16 -> 62.153344 | K16: =BC_Tối!A42 -> 2 | L16: =BC_Tối!C42 -> 33 | M16: =BC_Tối!D42 -> 30 | N16: =M16*100/L16 -> 90.909091
A17: 6 | B17: Xây dựng | C17: =BC_Sáng!A165 -> 3 | D17: =BC_Sáng!C165 -> 120 | E17: =BC_Sáng!D165 -> 73 | F17: =E17*100/D17 -> 60.833333 | G17: 0 | H17: 0 | I17: 0 | J17: 0 | K17: =BC_Sáng!I45 -> 0 | L17: 0 | M17: 0 | N17: 0
A18: 7 | B18: Khoa Công nghệ Nhiệt - Lạnh | C18: =BC_Sáng!A178 -> 8 | D18: =BC_Sáng!C178 -> 395 | E18: =BC_Sáng!D178 -> 281 | F18: =E18*100/D18 -> 71.139241 | G18: =BC_Chiều!A171 -> 11 | H18: =BC_Chiều!C171 -> 453 | I18: =BC_Chiều!D171 -> 354 | J18: =I18*100/H18 -> 78.145695 | K18: =BC_Sáng!I46 -> 0 | L18: 0 | M18: 0 | N18: 0
A19: 8 | B19: Khoa Công nghệ May - Thời trang | C19: =BC_Sáng!A184 -> 2 | D19: =BC_Sáng!C184 -> 87 | E19: =BC_Sáng!D184 -> 74 | F19: =E19*100/D19 -> 85.057471 | G19: =BC_Chiều!A178 -> 3 | H19: =BC_Chiều!C178 -> 118 | I19: =BC_Chiều!D178 -> 105 | J19: =I19*100/H19 -> 88.983051 | K19: =BC_Tối!A46 -> 2 | L19: =BC_Tối!C46 -> 320 | M19: =BC_Tối!D46 -> 195 | N19: =M19*100/L19 -> 60.9375
A20: 9 | B20: Khoa Khoa học cơ bản (NN Anh) | C20: =BC_Sáng!A198 -> 8 | D20: =BC_Sáng!C198 -> 445 | E20: =BC_Sáng!D198 -> 319 | F20: =E20*100/D20 -> 71.685393 | G20: =BC_Chiều!A185 -> 2 | H20: =BC_Chiều!C185 -> 134 | I20: =BC_Chiều!D185 -> 112 | J20: =I20*100/H20 -> 83.58209 | K20: =BC_Tối!A52 -> 4 | L20: =BC_Tối!C52 -> 218 | M20: =BC_Tối!D52 -> 196 | N20: =M20*100/L20 -> 89.908257
B21: TỔNG TOÀN TRƯỜNG | C21: =SUM(C12:C20) -> 94 | D21: =SUM(D12:D20) -> 5131 | E21: =SUM(E12:E20) -> 3694 | F21: =E21*100/D21 -> 71.993763 | G21: =SUM(G12:G20) -> 91 | H21: =SUM(H12:H20) -> 4089 | I21: =SUM(I12:I20) -> 3023 | J21: =I21*100/H21 -> 73.930056 | K21: =SUM(K12:K20) -> 24 | L21: =SUM(L12:L20) -> 1143 | M21: =SUM(M12:M20) -> 862 | N21: =M21*100/L21 -> 75.415573
B22: * Ghi chú:
D23: TP.Hồ Chí Minh, ngày 12 tháng 5 năm 2020
D24: PHÒNG CTCT-HSSV
